BEGIN:VCALENDAR
VERSION:2.0
PRODID:-//South of 6 - ECPv6.15.14//NONSGML v1.0//EN
CALSCALE:GREGORIAN
METHOD:PUBLISH
X-WR-CALNAME:South of 6
X-ORIGINAL-URL:https://southof6.org/es
X-WR-CALDESC:Eventos para South of 6
REFRESH-INTERVAL;VALUE=DURATION:PT1H
X-Robots-Tag:noindex
X-PUBLISHED-TTL:PT1H
BEGIN:VTIMEZONE
TZID:America/Chicago
BEGIN:DAYLIGHT
TZOFFSETFROM:-0600
TZOFFSETTO:-0500
TZNAME:CDT
DTSTART:20240310T080000
END:DAYLIGHT
BEGIN:STANDARD
TZOFFSETFROM:-0500
TZOFFSETTO:-0600
TZNAME:CST
DTSTART:20241103T070000
END:STANDARD
BEGIN:DAYLIGHT
TZOFFSETFROM:-0600
TZOFFSETTO:-0500
TZNAME:CDT
DTSTART:20250309T080000
END:DAYLIGHT
BEGIN:STANDARD
TZOFFSETFROM:-0500
TZOFFSETTO:-0600
TZNAME:CST
DTSTART:20251102T070000
END:STANDARD
BEGIN:DAYLIGHT
TZOFFSETFROM:-0600
TZOFFSETTO:-0500
TZNAME:CDT
DTSTART:20260308T080000
END:DAYLIGHT
BEGIN:STANDARD
TZOFFSETFROM:-0500
TZOFFSETTO:-0600
TZNAME:CST
DTSTART:20261101T070000
END:STANDARD
END:VTIMEZONE
BEGIN:VEVENT
DTSTART;TZID=America/Chicago:20250711T180000
DTEND;TZID=America/Chicago:20250713T170000
DTSTAMP:20260421T064900
CREATED:20250415T212443Z
LAST-MODIFIED:20250415T212445Z
UID:1066-1752256800-1752426000@southof6.org
SUMMARY:Startup Weekend Iowa City
DESCRIPTION:Meet the very best mentors\, investors\, co-founders and sponsors to show you how to get more done faster over an action-packed 3 days!
URL:https://southof6.org/es/event/startup-weekend-iowa-city/
LOCATION:MERGE\, 136 S Dubuque St\, Iowa City\, Iowa\, 52240
ATTACH;FMTTYPE=image/png:https://southof6.org/wp-content/uploads/2025/04/Event-Image.png
ORGANIZER;CN="Entrepartners":MAILTO:iowaentrepartners@gmail.com
END:VEVENT
BEGIN:VEVENT
DTSTART;TZID=America/Chicago:20250531T190000
DTEND;TZID=America/Chicago:20250531T213000
DTSTAMP:20260421T064900
CREATED:20250512T171504Z
LAST-MODIFIED:20250512T171508Z
UID:1088-1748718000-1748727000@southof6.org
SUMMARY:Movies at South District: Sonic 3
DESCRIPTION:Get ready for Sonic 3 under the stars at Pepperwood Plaza! Free movie\, family fun\, snacks & more. Don’t miss out! \n\n\n\nGet ready for a super-sonic night under the stars with Sonic the Hedgehog 3! This electrifying new movie brings back your favorite speedsters and new allies for more action-packed adventure and hilarious moments. Perfect for the whole family of Sonic fans! \n\n\n\nWhat to expect: \n\n\n\nArrive early to grab the best spot at Pepperwood PlazaFamily-friendly fun for everyone\, faster than ever!FREE movie screening under the starsRings (snacks) and power-ups (beverages) are available for purchaseMake it a truly memorable night with your crew \n\n\n\nImportant Info: \n\n\n\nThis outdoor movie event is located at Pepperwood PlazaBring your own comfy seating to enjoy the movie under the open sky! \n\n\n\nSee you at the outdoor movie event at Pepperwood Plaza for Sonic the Hedgehog 3.
URL:https://southof6.org/es/event/movies-at-south-district-sonic-3/
LOCATION:South District Market\, 947 US-6\, Iowa City\, Iowa\, 52240
ATTACH;FMTTYPE=image/jpeg:https://southof6.org/wp-content/uploads/2025/05/May-31st-1.jpg
ORGANIZER;CN="South of 6":MAILTO:Director@southof6.org
END:VEVENT
BEGIN:VEVENT
DTSTART;TZID=America/Chicago:20250524T090000
DTEND;TZID=America/Chicago:20250524T140000
DTSTAMP:20260421T064900
CREATED:20250402T173920Z
LAST-MODIFIED:20250402T174618Z
UID:1042-1748077200-1748095200@southof6.org
SUMMARY:Gaslight-Proof: Workplace Survival and Self-Healing Retreat
DESCRIPTION:Escape workplace chaos and reclaim your power.If you’ve ever felt drained by a toxic workplace\, gaslit by leadership\, or unsure of your worth in the office—this retreat is for you. \n\n\n\nThe Gaslight-Proof Workplace Survival & Self-Healing Retreat is a powerful half-day experience designed to help you rebuild your confidence\, recognize manipulation\, and step back into your full power with tools and support that last long after the retreat ends. \n\n\n\nWhat You’ll Gain: \n\n\n\n\nLearn to recognize gaslighting in real time\n\n\n\nRewire self-doubt with daily affirmations from The Truth About You\n\n\n\nMaster strategies from the Toxic Work Environment Survival Guide\n\n\n\nUnderstand your Fight\, Flight\, or Freeze response in the workplace\n\n\n\nReflect and heal through guided exercises\n\n\n\nEmbrace radical forgiveness to free yourself from resentment\n\n\n\n\nBonus Materials Included:All participants will receive the Gaslight-Proof: Workplace Survival & Self-Healing Journal\, featuring: \n\n\n\n\nBoundaries Script Worksheet\n\n\n\nWorkplace Exit Plan Template\n\n\n\nRadical Forgiveness Exercise\n\n\n\n\nThis is more than a retreat—it’s a transformation.Spots are limited\, and this event will fill quickly. Lunch and all resources are included. \n\n\n\nTo register\, message the organizer. The deadline to register is  May 20\, 2025 \n\n\n\n$75
URL:https://southof6.org/es/event/gaslight-proof-workplace-survival-and-self-healing-retreat/
LOCATION:Dream City\, 611 Southgate Ave\, Iowa City\, IA\, 52240\, United States
ATTACH;FMTTYPE=image/png:https://southof6.org/wp-content/uploads/2025/04/Event-Image-4.png
ORGANIZER;CN="Laura Cottrell":MAILTO:restorativecp@gmail.com
END:VEVENT
BEGIN:VEVENT
DTSTART;TZID=America/Chicago:20250518T100000
DTEND;TZID=America/Chicago:20250518T140000
DTSTAMP:20260421T064900
CREATED:20250501T150654Z
LAST-MODIFIED:20250501T150657Z
UID:1081-1747562400-1747576800@southof6.org
SUMMARY:Soul Brunch
DESCRIPTION:Join us for Soul Brunch\, a free\, family-friendly Sunday experience brought to you by South of 6. This special edition features the smooth\, soulful sounds of Blake Shaw\, whose rich vocals and upright bass blend jazz\, soul\, and storytelling into an unforgettable live performance. \n\n\n\nWhether you’re coming to connect\, vibe\, or just enjoy a laid-back morning with good food and great music\, Soul Brunch is your new favorite weekend tradition. Bring a friend\, grab a bite\, and soak in the vibes.
URL:https://southof6.org/es/event/soul-brunch/
LOCATION:Dodge Street Coffee\, 947 US-6\, Iowa City\, IA\, 52240\, United States
CATEGORIES:Arts & Culture Events
ATTACH;FMTTYPE=image/jpeg:https://southof6.org/wp-content/uploads/2025/05/1920-x-1005-pixels-2.jpg
ORGANIZER;CN="South of 6":MAILTO:Director@southof6.org
END:VEVENT
BEGIN:VEVENT
DTSTART;TZID=America/Chicago:20250510T100000
DTEND;TZID=America/Chicago:20250510T170000
DTSTAMP:20260421T064900
CREATED:20250402T171523Z
LAST-MODIFIED:20250402T172049Z
UID:1035-1746871200-1746896400@southof6.org
SUMMARY:Stamp Out Hunger Food Drive
DESCRIPTION:Join the effort to fight food insecurity in our community by volunteering for the Stamp Out Hunger Food Drive\, hosted by the National Association of Letter Carriers. This local initiative benefits the Community Crisis Services and Food Bank\, Coralville Community Food Pantry\, and North Liberty Community Food Pantry. \n\n\n\nVolunteers will help collect and organize food donations throughout the day. To show appreciation\, there will be pizza and snacks for volunteers! \n\n\n\nVolunteer Shifts: \n\n\n\n\n10:00 AM – 12:00 PM\n\n\n\n12:00 PM – 2:30 PM\n\n\n\n3:00 PM – 5:00 PM\n\n\n\n\nThis is a great way to give back\, meet others in your community\, and support local food pantries. \n\n\n\nContact for More Info:Ben KayserPhone: 1-319-240-8138Email: bkayser2005@gmail.com \n\n\n\nNote: All volunteers will meet at the Community Crisis Services and Food Bank before their shifts.
URL:https://southof6.org/es/event/stamp-out-hunger-food-drive/
LOCATION:Community Crisis Services and Food Bank\, 1045 Hwy 6 East\, Iowa City\, Iowa\, 52240
ATTACH;FMTTYPE=image/png:https://southof6.org/wp-content/uploads/2025/04/Event-Image-3.png
ORGANIZER;CN="Ben Kayser":MAILTO:bkayser2005@gmail.com
END:VEVENT
BEGIN:VEVENT
DTSTART;TZID=America/Chicago:20250505T093000
DTEND;TZID=America/Chicago:20250510T170000
DTSTAMP:20260421T064900
CREATED:20250415T192751Z
LAST-MODIFIED:20250415T192755Z
UID:1055-1746437400-1746896400@southof6.org
SUMMARY:Vintage Remix Pop-up Shop
DESCRIPTION:​Love vintage? They’ve got the goods! \n\n\n\nCrowded Closet’s Vintage Remix Pop-up Shop features their “best of the best” collection of vintage clothing and accessories! This semi-annual pop-up shop debuts every spring and fall and includes casual to formal fashion\, clothing and accessories. Plus staff usually find a few surprise vintage goods to delight the treasure hunter in you. \n\n\n\nFind the pop-up shop located inside the retail store at 851 Hwy 6 E\, Iowa City.  \n\n\n\nAvailable for one week only\, or while supplies last.  \n\n\n\nCheck out our Facebook event for more details on the next scheduled event. Come find your treasure!
URL:https://southof6.org/es/event/vintage-remix-pop-up-shop/
LOCATION:Crowed Closet\, 851 Hwy 6 E\, Iowa City\, Iowa
ATTACH;FMTTYPE=image/jpeg:https://southof6.org/wp-content/uploads/2025/04/489993094_1223663843100912_8737414276462102294_n.jpg
END:VEVENT
BEGIN:VEVENT
DTSTART;TZID=America/Chicago:20250428T190000
DTEND;TZID=America/Chicago:20250428T200000
DTSTAMP:20260421T064900
CREATED:20250415T193838Z
LAST-MODIFIED:20250415T202338Z
UID:1062-1745866800-1745870400@southof6.org
SUMMARY:Merkabah Yoga
DESCRIPTION:Embark on a rejuvenating journey of self-care with our recurring yoga event\, held every other Monday. This practice is designed to help you find balance\, strength\, and inner peace. \n\n\n\nBreathe. Move. Heal. Transform. \n\n\n\n \n\n\n\nDisclaimer: This event is hosted independently and is not affiliated with South of 6th. The event host is solely responsible for all liability
URL:https://southof6.org/es/event/merkabah-yoga-3/
LOCATION:Boys and Girls Club\, 1059 US-6 E\, Iowa City\, Iowa\, 52240
CATEGORIES:Workshops & Training
ATTACH;FMTTYPE=image/png:https://southof6.org/wp-content/uploads/2025/03/Event-Image.png
END:VEVENT
BEGIN:VEVENT
DTSTART;TZID=America/Chicago:20250424T163000
DTEND;TZID=America/Chicago:20250424T183000
DTSTAMP:20260421T064900
CREATED:20250414T215333Z
LAST-MODIFIED:20250414T215335Z
UID:1048-1745512200-1745519400@southof6.org
SUMMARY:Spring Market Kickoff
DESCRIPTION:Join us Field to Family’s Spring Market Kickoff\, a special open house event celebrating local food\, farmers\, and community! Please stop by their warehouse and office to see where the magic happens\, meet the team\, and learn more about how they connect fresh\, locally grown food to families in our community through their online market.  \n\n\n\nThis family-friendly event will feature interactive activities for kids\, fun educational booths about healthy food and where it comes from\, and local vendors sharing their knowledge. Plus\, for one day only\, you’ll have the chance to shop select products from their online market in person!
URL:https://southof6.org/es/event/spring-market-kickoff/
LOCATION:Field to Family\, 1051 US-6\, Iowa City\, Iowa\, 52240-6500\, United States
ATTACH;FMTTYPE=image/png:https://southof6.org/wp-content/uploads/2025/04/Field-to-Family-1st-poster.png
END:VEVENT
BEGIN:VEVENT
DTSTART;TZID=America/Chicago:20250421T190000
DTEND;TZID=America/Chicago:20250421T200000
DTSTAMP:20260421T064900
CREATED:20250326T185840Z
LAST-MODIFIED:20250326T185841Z
UID:994-1745262000-1745265600@southof6.org
SUMMARY:Merkabah Yoga
DESCRIPTION:Embark on a rejuvenating journey of self-care with our recurring yoga event\, held every other Monday. This practice is designed to help you find balance\, strength\, and inner peace. \n\n\n\nBreathe. Move. Heal. Transform. \n\n\n\n \n\n\n\nDisclaimer: This event is hosted independently and is not affiliated with South of 6th. The event host is solely responsible for all liability
URL:https://southof6.org/es/event/merkabah-yoga-2/
LOCATION:Boys and Girls Club\, 1059 US-6 E\, Iowa City\, Iowa\, 52240
CATEGORIES:Workshops & Training
ATTACH;FMTTYPE=image/png:https://southof6.org/wp-content/uploads/2025/03/Event-Image.png
END:VEVENT
BEGIN:VEVENT
DTSTART;TZID=America/Chicago:20250416T023000
DTEND;TZID=America/Chicago:20250416T150000
DTSTAMP:20260421T064900
CREATED:20250416T003411Z
LAST-MODIFIED:20250416T003413Z
UID:1073-1744770600-1744815600@southof6.org
SUMMARY:RSFIC Coffee & Coworking
DESCRIPTION:This is a time for folks to come together and be able to catch up while also sharing in community.  \n\n\n\nThere will be free coffee and light refreshments\, so please come and join us (invite a friend!)This will also be an opportunity to talk to our wonderful Project Managers. At RSFIC\, we want to help neighbors who are working to strengthen their neighborhoods.  \n\n\n\nIf you have any potential project ideas (book club\, any fun gatherings\, special events\, etc.) or changes you would like to see in your neighborhood (traffic control\, more lights in an alley\, community garden\, etc.) don’t hesitate to come and bounce your ideas.”
URL:https://southof6.org/es/event/rsfic-coffee-coworking/
LOCATION:RSFIC Gathering Space\, 1927 Keokuk St\, Iowa City\, Iowa\, 52240
ATTACH;FMTTYPE=image/png:https://southof6.org/wp-content/uploads/2025/04/Event-Image-1-1.png
END:VEVENT
BEGIN:VEVENT
DTSTART;TZID=America/Chicago:20250412T100000
DTEND;TZID=America/Chicago:20250412T170000
DTSTAMP:20260421T064900
CREATED:20250402T161719Z
LAST-MODIFIED:20250402T170750Z
UID:1027-1744452000-1744477200@southof6.org
SUMMARY:Stuff Etc 40th Anniversary Sale
DESCRIPTION:Location: All 8 Stuff Etc. Locations \n\n\n\nCelebrate 40 Years of Savings at Stuff Etc \n\n\n\nStuff Etc is turning 40 years old\, and we’re inviting you to help us celebrate this incredible milestone. For four decades\, we’ve grown alongside our community—and now it’s time to give back in a big way. \n\n\n\nShop & Save with Scratch Card GiveawaysWhen you check out on April 12th\, you’ll get to draw a scratch card and receive 10%–40% off your purchase of full-priced items (excluding new mattresses). It’s our way of saying thank you. \n\n\n\nLa Regia Food Truck will be at the location from 11 AM – 2 PM\, so come hungry. \n\n\n\nGift Card Giveaways & Special DiscountsEnjoy exclusive deals\, surprises\, and more as you explore our incredible selection of clothing\, furniture\, home décor\, and one-of-a-kind finds. \n\n\n\nWhether you’re a loyal shopper or discovering us for the first time\, this event is all about you. \n\n\n\nMark your calendar for Saturday\, April 12th and help us make this celebration one to remember. \n\n\n\nThank you for 40 amazing years—we can’t wait to celebrate with you.
URL:https://southof6.org/es/event/stuff-etc-40th-anniversary-sale/
LOCATION:Stuff Etc.\, 851 US-6\, Iowa City\, 52240
ATTACH;FMTTYPE=image/png:https://southof6.org/wp-content/uploads/2025/04/Event-Image-1.png
ORGANIZER;CN="Stuff Etc.":MAILTO:corporate@shopstuffetc.com
END:VEVENT
BEGIN:VEVENT
DTSTART;TZID=America/Chicago:20250407T190000
DTEND;TZID=America/Chicago:20250407T200000
DTSTAMP:20260421T064900
CREATED:20250326T183359Z
LAST-MODIFIED:20250326T184305Z
UID:982-1744052400-1744056000@southof6.org
SUMMARY:Merkabah Yoga
DESCRIPTION:Embark on a rejuvenating journey of self-care with our recurring yoga event\, held every other Monday. This practice is designed to help you find balance\, strength\, and inner peace. \n\n\n\nBreathe. Move. Heal. Transform. \n\n\n\n \n\n\n\nDisclaimer: This event is hosted independently and is not affiliated with South of 6th. The event host is solely responsible for all liability
URL:https://southof6.org/es/event/merkabah-yoga/
LOCATION:Boys and Girls Club\, 1059 US-6 E\, Iowa City\, Iowa\, 52240
CATEGORIES:Workshops & Training
ATTACH;FMTTYPE=image/png:https://southof6.org/wp-content/uploads/2025/03/Event-Image.png
END:VEVENT
BEGIN:VEVENT
DTSTART;TZID=America/Chicago:20250227T113000
DTEND;TZID=America/Chicago:20250227T130000
DTSTAMP:20260421T064900
CREATED:20250221T000509Z
LAST-MODIFIED:20250221T000511Z
UID:624-1740655800-1740661200@southof6.org
SUMMARY:Dinner & Learn: Business Funding
DESCRIPTION:Why You Should Attend: \n\n\n\n\nNetworking Opportunities: Meet like-minded entrepreneurs and industry leaders.\n\n\n\nWorkshops and Seminars: Gain valuable insights from experts who can help you refine your strategies.\n\n\n\nAccess to Resources: Discover tools and resources that can enhance your business operations.\n\n\n\nCollaborative Environment: Share your ideas and receive constructive feedback from peers.\n\n\n\nInspiration: Get motivated by success stories and innovative approaches from fellow business owners.\n\n\n\n\nHow to Get Involved:\n\n\n\n\nSign up for our upcoming event.\n\n\n\nPrepare to engage and share your business journey.\n\n\n\nBring your questions and ideas to discuss with others.\n\n\n\n\nDon’t miss out on this chance to elevate your business! Together\, we can foster growth and success. We look forward to seeing you there!
URL:https://southof6.org/es/event/dinner-learn-business-funding/
LOCATION:Dream City\, 611 Southgate Ave\, Iowa City\, IA\, 52240\, United States
CATEGORIES:Finance & Grants,Workshops & Training
ATTACH;FMTTYPE=image/webp:https://southof6.org/wp-content/uploads/2025/02/7ae74c_7616e7a1561f4b11bacd2f0465f2bcadmv2.webp
END:VEVENT
END:VCALENDAR